BEGIN:VCALENDAR
VERSION:2.0
PRODID:-//CIC - ECPv6.15.20//NONSGML v1.0//EN
CALSCALE:GREGORIAN
METHOD:PUBLISH
X-ORIGINAL-URL:https://www.cic.gba.gob.ar
X-WR-CALDESC:Eventos para CIC
REFRESH-INTERVAL;VALUE=DURATION:PT1H
X-Robots-Tag:noindex
X-PUBLISHED-TTL:PT1H
BEGIN:VTIMEZONE
TZID:America/Argentina/Buenos_Aires
BEGIN:STANDARD
TZOFFSETFROM:-0300
TZOFFSETTO:-0300
TZNAME:-03
DTSTART:20230101T000000
END:STANDARD
END:VTIMEZONE
BEGIN:VEVENT
DTSTART;VALUE=DATE:20240708
DTEND;VALUE=DATE:20240901
DTSTAMP:20260420T040450
CREATED:20240410T140112Z
LAST-MODIFIED:20240812T162729Z
UID:15727-1720396800-1725148799@www.cic.gba.gob.ar
SUMMARY:Becas de Entrenamiento: Concurso de Ingreso para Alumnas/os Universitarios (BENTR25) -Prórroga hasta el 31 de agosto-
DESCRIPTION:
URL:https://www.cic.gba.gob.ar/event/becas-de-entrenamiento-concurso-de-ingreso-para-alumnas-os-universitarios-bentr25/
LOCATION:Buenos Aires
CATEGORIES:Agenda CyT,Encuentros CyT,Eventos Destacados (home)
END:VEVENT
END:VCALENDAR