BEGIN:VCALENDAR
VERSION:2.0
PRODID:-//CIC - ECPv6.15.20//NONSGML v1.0//EN
CALSCALE:GREGORIAN
METHOD:PUBLISH
X-WR-CALNAME:CIC
X-ORIGINAL-URL:https://www.cic.gba.gob.ar
X-WR-CALDESC:Eventos para CIC
REFRESH-INTERVAL;VALUE=DURATION:PT1H
X-Robots-Tag:noindex
X-PUBLISHED-TTL:PT1H
BEGIN:VTIMEZONE
TZID:America/Argentina/Buenos_Aires
BEGIN:STANDARD
TZOFFSETFROM:-0300
TZOFFSETTO:-0300
TZNAME:-03
DTSTART:20250101T000000
END:STANDARD
END:VTIMEZONE
BEGIN:VEVENT
DTSTART;VALUE=DATE:20260501
DTEND;VALUE=DATE:20260601
DTSTAMP:20260419T155218
CREATED:20251222T174646Z
LAST-MODIFIED:20251222T174646Z
UID:18858-1777593600-1780271999@www.cic.gba.gob.ar
SUMMARY:Becas de Entrenamiento: Concurso de Ingreso para Estudiantes Universitarios
DESCRIPTION:
URL:https://www.cic.gba.gob.ar/event/becas-de-entrenamiento-concurso-de-ingreso-para-estudiantes-universitarios-2/
LOCATION:Buenos Aires
CATEGORIES:Agenda CyT
END:VEVENT
END:VCALENDAR