BEGIN:VCALENDAR
VERSION:2.0
PRODID:-//CIC - ECPv6.15.20//NONSGML v1.0//EN
CALSCALE:GREGORIAN
METHOD:PUBLISH
X-WR-CALNAME:CIC
X-ORIGINAL-URL:https://www.cic.gba.gob.ar
X-WR-CALDESC:Eventos para CIC
REFRESH-INTERVAL;VALUE=DURATION:PT1H
X-Robots-Tag:noindex
X-PUBLISHED-TTL:PT1H
BEGIN:VTIMEZONE
TZID:America/Argentina/Buenos_Aires
BEGIN:STANDARD
TZOFFSETFROM:-0300
TZOFFSETTO:-0300
TZNAME:-03
DTSTART:20250101T000000
END:STANDARD
END:VTIMEZONE
BEGIN:VEVENT
DTSTART;VALUE=DATE:20260801
DTEND;VALUE=DATE:20260901
DTSTAMP:20260420T113036
CREATED:20251222T175144Z
LAST-MODIFIED:20251222T175144Z
UID:18864-1785542400-1788220799@www.cic.gba.gob.ar
SUMMARY:Subsidios: Ideas-Proyectos de Investigación\, Desarrollo y Transferencia - Soluciones Científico-Tecnológicas para Áreas del Gobierno Provincial
DESCRIPTION:
URL:https://www.cic.gba.gob.ar/event/subsidios-ideas-proyectos-de-investigacion-desarrollo-y-transferencia-soluciones-cientifico-tecnologicas-para-areas-del-gobierno-provincial/
LOCATION:Buenos Aires
CATEGORIES:Agenda CyT
END:VEVENT
BEGIN:VEVENT
DTSTART;VALUE=DATE:20260801
DTEND;VALUE=DATE:20260901
DTSTAMP:20260420T113036
CREATED:20251222T175257Z
LAST-MODIFIED:20251222T175434Z
UID:18866-1785542400-1788220799@www.cic.gba.gob.ar
SUMMARY:Carrera de Personal de Apoyo a la Investigación: Convocatoria de Ingreso para Graduados/as Universitarios
DESCRIPTION:
URL:https://www.cic.gba.gob.ar/event/carrera-de-personal-de-apoyo-a-la-investigacion-convocatoria-de-ingreso-para-graduados-as-universitarios/
LOCATION:Buenos Aires
CATEGORIES:Agenda CyT
END:VEVENT
BEGIN:VEVENT
DTSTART;VALUE=DATE:20260803
DTEND;VALUE=DATE:20260806
DTSTAMP:20260420T113036
CREATED:20260316T145549Z
LAST-MODIFIED:20260316T145549Z
UID:19286-1785715200-1785974399@www.cic.gba.gob.ar
SUMMARY:IV edición de Diálogos Académicos en Derechos Humanos
DESCRIPTION:Los días 3\, 4 y 5 de agosto se llevará a cabo en la Universidad Nacional de Quilmes\, Saez Peña 352\, la IV edición de Diálogos Académicos en Derechos Humanos\, el tema de este año es “Los sistemas de protección en crisis. Apostillas para enfrentar el desafío presente”. \nLa actividad está organizada por la Cátedra de Derechos Humanos de la AUGM\, el Centro de Derechos “Emilio Mignone” y la Red de investigación en derechos humanos\, diversidades y vulnerabilidades. La misma cuenta con el apoyo de la CIC.  \nEl objetivo de esta actividad es generar un espacio de intercambio y reflexión académica en torno a los desafíos actuales de los sistemas de protección de derechos humanos\, promoviendo el diálogo entre equipos de investigación\, instituciones y especialistas que trabajan en el campo de los derechos humanos\, las diversidades y las vulnerabilidades. \n 
URL:https://www.cic.gba.gob.ar/event/iv-edicion-de-dialogos-academicos-en-derechos-humanos/
LOCATION:UNQ\, Roque Sáenz Peña 352\, Bernal\, Buenos Aires\, Argentina
CATEGORIES:Agenda CyT
END:VEVENT
BEGIN:VEVENT
DTSTART;VALUE=DATE:20260806
DTEND;VALUE=DATE:20260808
DTSTAMP:20260420T113036
CREATED:20260223T151305Z
LAST-MODIFIED:20260223T151305Z
UID:19006-1785974400-1786147199@www.cic.gba.gob.ar
SUMMARY:IX Seminario Migraciones Internacionales Contemporáneas
DESCRIPTION:Los días 6 y 7 de agosto se llevará a cabo en la Universidad Nacional de Luján (UNLu)\, Ruta 5 y Avenida Constitución\, el IX Seminario Migraciones Internacionales Contemporáneas (IAMIC)  \nEste evento está organizado por la Red de Investigadores/as Argentinos/as sobre Migraciones Internacionales Contemporáneas. El mismo cuenta con el apoyo de la CIC.  \nEl objetivo de esta actividad es fomentar el intercambio de experiencias y producciones académicas\, promover el diálogo interdisciplinario entre especialistas\, difundir avances e investigaciones recientes en el área\, fortalecer redes institucionales y vínculos de cooperación\, e impulsar la participación y formación de estudiantes e investigadores.
URL:https://www.cic.gba.gob.ar/event/ix-seminario-migraciones-internacionales-contemporaneas/
LOCATION:UNLu
CATEGORIES:Agenda CyT
END:VEVENT
BEGIN:VEVENT
DTSTART;VALUE=DATE:20260810
DTEND;VALUE=DATE:20260814
DTSTAMP:20260420T113036
CREATED:20260223T150239Z
LAST-MODIFIED:20260223T150239Z
UID:18993-1786320000-1786665599@www.cic.gba.gob.ar
SUMMARY:55º Jornadas Argentinas de Informática e Investigación Operativa
DESCRIPTION:Del 10 al 13 de agosto se llevarán a cabo en la Universidad Tecnológica Nacional\, Regional La Plata (60 y 123)\, las 55º Jornadas Argentinas de Informática e Investigación Operativa. El mismo cuenta con el apoyo de la CIC. \nEsta actividad está organizada por la Sociedad Argentina de Informática (SADIO) en conjunto con universidades. \nEstas jornadas tienen como objetivo promocionar la investigación de alto nivel\, el desarrollo y la vinculación de la computación en todas sus formas\, tanto en la academia como en la industria para contribuir al desarrollo nacional en un área de altísimo impacto productivo. \nDurante las jornadas\, las y los participantes compartirán y enriquecerán su producción científica mediante la discusión de resultados de investigación y experiencias\, así como la asistencia a conferencias y mesas redondas. \nMás información: https://55jaiio.sadio.org.ar/?utm_source=ig&utm_medium=social&utm_content=link_in_bio&fbclid=PAZXh0bgNhZW0CMTEAc3J0YwZhcHBfaWQMMjU2MjgxMDQwNTU4AAGn0bdjrO948dRAjVJ8bZoGinf267h-l0fSIb71qZOEWuBrtw_0AhmDtCsR5pM_aem_dDdH4eHFPFLIFhZur644IQ  \n 
URL:https://www.cic.gba.gob.ar/event/55o-jornadas-argentinas-de-informatica-e-investigacion-operativa/
LOCATION:UTN
CATEGORIES:Agenda CyT
END:VEVENT
BEGIN:VEVENT
DTSTART;VALUE=DATE:20260828
DTEND;VALUE=DATE:20260829
DTSTAMP:20260420T113036
CREATED:20260223T150531Z
LAST-MODIFIED:20260223T150531Z
UID:19000-1787875200-1787961599@www.cic.gba.gob.ar
SUMMARY:III Taller de Implementación del Estudio Multicéntrico de Evaluación de Pruebas Diagnóstico Rápido para Chagas
DESCRIPTION:El día 28 de agosto se llevará a cabo en la Universidad Nacional de José C. Paz (UNPAZ)\, Leandro N. Alem 4731\, el III Taller de Implementación del Estudio Multicéntrico de Evaluación de Pruebas Diagnóstico Rápido para Chagas: “Diagnóstico Serológico de Infección Crónica por Trypanosomacruzi: Hacía una Estrategia para el uso de Pruebas Rápidas en la Provincia de Buenos Aires” \nEste evento es organizado por el Instituto de Estudios para el Desarrollo Productivo y la Innovación. El mismo cuenta con el apoyo de la CIC.  \nLa enfermedad de Chagas\, es la principal enfermedad endémica en la Argentina y un problema de Salud Pública. En el conurbano bonaerense\, reside población migrante de zonas con alta tasa de infección por T. cruzi\, como provincias del norte de Argentina\, Bolivia y Paraguay. Sin embargo son pocas las investigaciones publicadas\, realizadas en esta región que describan la situación epidemiológica en relación con esta infección.  \nEl Taller tiene como objetivo debatir la incorporación de pruebas de diagnóstico rápido para Chagas en el sistema de salud de la Provincia de Buenos Aires\, articulando la evidencia científica generada por el estudio multicéntrico con las necesidades concretas del sistema sanitario\, a fin de mejorar el acceso al diagnóstico y la atención de las personas afectadas.
URL:https://www.cic.gba.gob.ar/event/iii-taller-de-implementacion-del-estudio-multicentrico-de-evaluacion-de-pruebas-diagnostico-rapido-para-chagas/
LOCATION:UNPAZ
CATEGORIES:Agenda CyT
END:VEVENT
END:VCALENDAR