BEGIN:VCALENDAR
VERSION:2.0
PRODID:-//CIC - ECPv6.15.20//NONSGML v1.0//EN
CALSCALE:GREGORIAN
METHOD:PUBLISH
X-WR-CALNAME:CIC
X-ORIGINAL-URL:https://www.cic.gba.gob.ar
X-WR-CALDESC:Eventos para CIC
REFRESH-INTERVAL;VALUE=DURATION:PT1H
X-Robots-Tag:noindex
X-PUBLISHED-TTL:PT1H
BEGIN:VTIMEZONE
TZID:America/Argentina/Buenos_Aires
BEGIN:STANDARD
TZOFFSETFROM:-0300
TZOFFSETTO:-0300
TZNAME:-03
DTSTART:20250101T000000
END:STANDARD
END:VTIMEZONE
BEGIN:VEVENT
DTSTART;VALUE=DATE:20260302
DTEND;VALUE=DATE:20260331
DTSTAMP:20260424T211341
CREATED:20251222T174300Z
LAST-MODIFIED:20260225T142731Z
UID:18852-1772409600-1774915199@www.cic.gba.gob.ar
SUMMARY:Subsidios: Publicaciones de Divulgación Científica y Tecnológica
DESCRIPTION:
URL:https://www.cic.gba.gob.ar/event/subsidios-publicaciones-de-divulgacion-cientifica-y-tecnologica-pdct26-27/
LOCATION:Buenos Aires
CATEGORIES:Agenda CyT
END:VEVENT
BEGIN:VEVENT
DTSTART;VALUE=DATE:20260302
DTEND;VALUE=DATE:20260331
DTSTAMP:20260424T211341
CREATED:20251222T174401Z
LAST-MODIFIED:20260225T143053Z
UID:18854-1772409600-1774915199@www.cic.gba.gob.ar
SUMMARY:Subsidios: Asistencia de Reuniones Científicas y Tecnológicas
DESCRIPTION:
URL:https://www.cic.gba.gob.ar/event/subsidios-asistencia-de-reuniones-cientificas-y-tecnologicas/
LOCATION:Buenos Aires
CATEGORIES:Agenda CyT
END:VEVENT
BEGIN:VEVENT
DTSTART;VALUE=DATE:20260302
DTEND;VALUE=DATE:20260331
DTSTAMP:20260424T211341
CREATED:20251222T175921Z
LAST-MODIFIED:20260225T142920Z
UID:18875-1772409600-1774915199@www.cic.gba.gob.ar
SUMMARY:Subsidios: Organización de Reuniones Científicas y Tecnológicas
DESCRIPTION:
URL:https://www.cic.gba.gob.ar/event/subsidios-organizacion-de-reuniones-cientificas-y-tecnologicas-2/
LOCATION:Buenos Aires
CATEGORIES:Agenda CyT
END:VEVENT
BEGIN:VEVENT
DTSTART;VALUE=DATE:20260327
DTEND;VALUE=DATE:20260328
DTSTAMP:20260424T211341
CREATED:20260316T145438Z
LAST-MODIFIED:20260316T145604Z
UID:19283-1774569600-1774655999@www.cic.gba.gob.ar
SUMMARY:Feria del Agua
DESCRIPTION:Con aval institucional de la CIC\, el 27 de marzo se llevará a cabo en Plaza Rocha\, La Plata\, la séptima edición de la Feria del Agua\, bajo el lema “Agua y Género” \nEsta actividad está organizada por el Instituto de Limnología Dr. Raúl Ringuelet (ILPLA) y el proyecto de Extensión de la FCNyM “Exploracuátic@s”.  \nEste evento tiene como objetivo dar a conocer el trabajo desarrollado por docentes\, extensionistas\, comunicadores/as\, artistas y científicos/as cuyas líneas de acción están vinculadas con el agua.  \nSe trata de una actividad que aborda la temática desde múltiples enfoques (investigación\, extensión\, educación\, gestión\, producción\, creación\, activismo\, etc.)\, incorporando la interacción entre diversas instituciones científicas\, culturales y educativas\, para reforzar la sensibilización de los/las participantes en torno a la importancia del cuidado de este bien común\, desde una perspectiva científica\, educativa y social. \nLa feria fue declarada de interés municipal en el año 2022 y la fecha fue elegida teniendo en cuenta que el día 22 de marzo es definido por las Naciones Unidas como el “Día Mundial del Agua”.
URL:https://www.cic.gba.gob.ar/event/feria-del-agua/
LOCATION:Plaza Rocha\, 7 y 60\, La Plata\, Buenos Aires\, 1900\, Argentina
CATEGORIES:Agenda CyT
ORGANIZER;CN="ILPLA":MAILTO:extension@ilpla.edu.ar
END:VEVENT
END:VCALENDAR