BEGIN:VCALENDAR
VERSION:2.0
PRODID:-//CIC - ECPv6.15.20//NONSGML v1.0//EN
CALSCALE:GREGORIAN
METHOD:PUBLISH
X-WR-CALNAME:CIC
X-ORIGINAL-URL:https://www.cic.gba.gob.ar
X-WR-CALDESC:Eventos para CIC
REFRESH-INTERVAL;VALUE=DURATION:PT1H
X-Robots-Tag:noindex
X-PUBLISHED-TTL:PT1H
BEGIN:VTIMEZONE
TZID:America/Argentina/Buenos_Aires
BEGIN:STANDARD
TZOFFSETFROM:-0300
TZOFFSETTO:-0300
TZNAME:-03
DTSTART:20250101T000000
END:STANDARD
END:VTIMEZONE
BEGIN:VEVENT
DTSTART;VALUE=DATE:20260901
DTEND;VALUE=DATE:20261001
DTSTAMP:20260424T134646
CREATED:20251222T175555Z
LAST-MODIFIED:20251222T175607Z
UID:18870-1788220800-1790812799@www.cic.gba.gob.ar
SUMMARY:Becas Doctorales Bonaerenses de Investigación: Convocatoria de Ingreso a Carrera de Investigador/a
DESCRIPTION:
URL:https://www.cic.gba.gob.ar/event/becas-doctorales-bonaerenses-de-investigacion-convocatoria-de-ingreso-a-carrera-de-investigador-a/
LOCATION:Buenos Aires
CATEGORIES:Agenda CyT
END:VEVENT
BEGIN:VEVENT
DTSTART;VALUE=DATE:20260901
DTEND;VALUE=DATE:20261001
DTSTAMP:20260424T134646
CREATED:20251222T175713Z
LAST-MODIFIED:20251222T175713Z
UID:18873-1788220800-1790812799@www.cic.gba.gob.ar
SUMMARY:Carrera de Investigador/a Científico/a y Tecnológico/a: Concurso de Ingreso a Carrera de Investigador/a
DESCRIPTION:
URL:https://www.cic.gba.gob.ar/event/carrera-de-investigador-a-cientifico-a-y-tecnologico-a-concurso-de-ingreso-a-carrera-de-investigador-a/
LOCATION:Buenos Aires
CATEGORIES:Agenda CyT
END:VEVENT
BEGIN:VEVENT
DTSTART;VALUE=DATE:20260921
DTEND;VALUE=DATE:20260925
DTSTAMP:20260424T134646
CREATED:20260223T151558Z
LAST-MODIFIED:20260223T151558Z
UID:19013-1789948800-1790294399@www.cic.gba.gob.ar
SUMMARY:XIII Congreso Argentino de Hidrogeología y IX Seminario Hispano-Latinoamericano
DESCRIPTION:Del 21 al 24 de septiembre se llevará a cabo en Mar del Plata el XIII Congreso Argentino de Hidrogeología y IX Seminario Hispano-Latinoamericano sobre Temas Actuales de la Hidrología Subterránea. \nEl evento está organizado por el Instituto de Geología de Costas y del Cuaternario “Dr. Enrique Jorge Schnack” (UNMDP/CIC) y el Grupo Argentino de la Asociación Internacional de Hidrogeólogos (AIH-GA) y cuenta con el apoyo de la CIC.  \nEsta actividad tiene como principal objetivo promover el debate y la actualización científica sobre el estudio\, uso y gestión del agua subterránea. A través de espacios de intercambio de experiencias\, presentación de investigaciones y discusiones técnicas\, sociales y legales\, el Congreso busca fortalecer el conocimiento hidrogeológico y fomentar la interacción entre profesionales\, investigadores\, docentes\, estudiantes y tomadores de decisión\, con miras a una gestión sostenible de los recursos hídricos en Argentina. \nMás información: https://congresohidrogeologia.mdp.edu.ar/ 
URL:https://www.cic.gba.gob.ar/event/xiii-congreso-argentino-de-hidrogeologia-y-ix-seminario-hispano-latinoamericano/
LOCATION:Libertad 3099\, Mar del Plata\, Libertad 3099\, Mar del Plata\, Buenos Aires\, Argentina
CATEGORIES:Agenda CyT
END:VEVENT
END:VCALENDAR