BEGIN:VCALENDAR
VERSION:2.0
PRODID:-//CIC - ECPv6.15.20//NONSGML v1.0//EN
CALSCALE:GREGORIAN
METHOD:PUBLISH
X-WR-CALNAME:CIC
X-ORIGINAL-URL:https://www.cic.gba.gob.ar
X-WR-CALDESC:Eventos para CIC
REFRESH-INTERVAL;VALUE=DURATION:PT1H
X-Robots-Tag:noindex
X-PUBLISHED-TTL:PT1H
BEGIN:VTIMEZONE
TZID:America/Argentina/Buenos_Aires
BEGIN:STANDARD
TZOFFSETFROM:-0300
TZOFFSETTO:-0300
TZNAME:-03
DTSTART:20250101T000000
END:STANDARD
END:VTIMEZONE
BEGIN:VEVENT
DTSTART;VALUE=DATE:20261008
DTEND;VALUE=DATE:20261011
DTSTAMP:20260424T134429
CREATED:20260209T152730Z
LAST-MODIFIED:20260209T152730Z
UID:18959-1791417600-1791676799@www.cic.gba.gob.ar
SUMMARY:Congreso Interdisciplinario de Geofísica\, Meteorología y Astronomía (CIGMA)
DESCRIPTION:Los días 8\, 9 y 10 de octubre se llevará a cabo en el Planetario de la Facultad de Ciencias Astronómicas y Geofísicas de la UNLP la primera edición del Congreso Interdisciplinario de Geofísica\, Meteorología y Astronomía (CIGMA). El mismo cuenta con el auspicio de la CIC.  \nEste evento está organizado por la Facultad de Ciencias Astronómicas y Geofísicas de la Universidad Nacional de La Plata.  \nLa actividad busca fomentar el desarrollo profesional de estudiantes de estas carreras o afines\, y a la vez destacar la conexión e interdisciplinariedad entre áreas que\, a primera vista\, podrían parecer distintas. También apunta a generar y fortalecer vínculos entre estudiantes\, profesionales y distintas universidades o instituciones\, promoviendo la formación integral y el trabajo conjunto entre disciplinas. \nEl congreso contará con un programa que incluirá disertaciones de investigadores y profesionales de renombre\, con foco en la colaboración interdisciplinaria. Además\, habrá mesas redondas de debate\, exhibición de pósteres y stands temáticos con material formativo\, junto con espacios propios para cada carrera\, organizados por estudiantes de cada una. \nMás información: https://www.instagram.com/congresocigma/
URL:https://www.cic.gba.gob.ar/event/congreso-interdisciplinario-de-geofisica-meteorologia-y-astronomia-cigma/
LOCATION:Planetario de la Facultad de Ciencias Astronómicas y Geofísicas – UNLP\, Av. Iraola y Calle 118 Paseo del Bosque\, La Plata\, Buenos Aires\, 1900\, Argentina
CATEGORIES:Agenda CyT
END:VEVENT
END:VCALENDAR