BEGIN:VCALENDAR
VERSION:2.0
PRODID:-//CIC - ECPv6.15.20//NONSGML v1.0//EN
CALSCALE:GREGORIAN
METHOD:PUBLISH
X-WR-CALNAME:CIC
X-ORIGINAL-URL:https://www.cic.gba.gob.ar
X-WR-CALDESC:Eventos para CIC
REFRESH-INTERVAL;VALUE=DURATION:PT1H
X-Robots-Tag:noindex
X-PUBLISHED-TTL:PT1H
BEGIN:VTIMEZONE
TZID:America/Argentina/Buenos_Aires
BEGIN:STANDARD
TZOFFSETFROM:-0300
TZOFFSETTO:-0300
TZNAME:-03
DTSTART:20210101T000000
END:STANDARD
END:VTIMEZONE
BEGIN:VEVENT
DTSTART;VALUE=DATE:20220502
DTEND;VALUE=DATE:20220531
DTSTAMP:20260425T231012
CREATED:20220331T144103Z
LAST-MODIFIED:20220412T140813Z
UID:9364-1651449600-1653955199@www.cic.gba.gob.ar
SUMMARY:Ideas-Proyectos: convocatoria para proyectos orientados
DESCRIPTION:
URL:https://www.cic.gba.gob.ar/event/ideas-proyectos-convocatoria-para-proyectos-orientados/
CATEGORIES:Agenda CyT,Convocatorias,Encuentros CyT,Subsidios
END:VEVENT
BEGIN:VEVENT
DTSTART;VALUE=DATE:20220502
DTEND;VALUE=DATE:20220531
DTSTAMP:20260425T231012
CREATED:20220331T144500Z
LAST-MODIFIED:20220412T140917Z
UID:9366-1651449600-1653955199@www.cic.gba.gob.ar
SUMMARY:Convocatoria a Subsidios para Asistencia a Reuniones Científicas y Tecnológicas
DESCRIPTION:
URL:https://www.cic.gba.gob.ar/event/convocatoria-a-subsidios-para-asistencia-a-reuniones-cientificas-y-tecnologicas/
CATEGORIES:Agenda CyT,Convocatorias,Encuentros CyT,Subsidios
END:VEVENT
BEGIN:VEVENT
DTSTART;VALUE=DATE:20220502
DTEND;VALUE=DATE:20220628
DTSTAMP:20260425T231012
CREATED:20220411T160149Z
LAST-MODIFIED:20220411T160149Z
UID:9438-1651449600-1656374399@www.cic.gba.gob.ar
SUMMARY:Curso de Estadística Elemental Aplicada en la Investigación de Materiales
DESCRIPTION:Destinado a estudiantes universitarios de grado y posgrado\, el Laboratorio de Entrenamiento Multidisciplinario para la Investigación Tecnológica (LEMIT) de la Comisión de Investigaciones Científicas de la provincia de Buenos Aires dictará el curso gratuito de Estadística Elemental Aplicada en la Investigación de Materiales. Se cursará todos los lunes y jueves de mayo y junio de 10 a 12 hs. en las instalaciones del LEMIT\, 52 entre 121 y 122\, La Plata. \nEl curso estará compuesto por 16 módulos que abordarán Probabilidad; Distribuciones; Medidas de posición y medidas de dispersión; Distribuciones de probabilidad de variables aleatorias discretas y continuas; Inferencia estadística; Análisis de varianza y covarianza\, entre otros. El curso estará a cargo del Ing. Horacio Daniel Osio\, de extensa trayectoria en el campo. \nLas alumnas y alumnos interesados podrán inscribirse en el sitio web del LEMIT. Una vez finalizado\, se entregará certificado de asistencia.
URL:https://www.cic.gba.gob.ar/event/curso-de-estadistica-elemental-aplicada-en-la-investigacion-de-materiales/
CATEGORIES:Agenda CyT,Encuentros CyT,Eventos Destacados (home)
END:VEVENT
BEGIN:VEVENT
DTSTART;VALUE=DATE:20220511
DTEND;VALUE=DATE:20220514
DTSTAMP:20260425T231012
CREATED:20211108T131935Z
LAST-MODIFIED:20211108T131935Z
UID:8464-1652227200-1652486399@www.cic.gba.gob.ar
SUMMARY:XIX Congreso Regional de Física Estadística y Aplicaciones a la Materia Condensada
DESCRIPTION:Del 11 a 13 de mayo de 2022 en la ciudad de La Plata se realizará el XIX Congreso Regional de Física Estadística y Aplicaciones a la Materia Condensada (TREFEMAC 2022). Además\, en el marco del evento\, se prevé el dictado de dos cursos a desarrollarse del 5 al 10 de mayo. \nEl Comité Organizador está integrado por docentes investigadores/as de la Facultad de Ciencias Exactas de la UNLP y los institutos IFLP\, INIFTA e IFLYSIB. El congreso cuenta con auspicio de la CIC.
URL:https://www.cic.gba.gob.ar/event/xix-congreso-regional-de-fisica-estadistica-y-aplicaciones-a-la-materia-condensada/
CATEGORIES:Agenda CyT,Encuentros CyT,Eventos Destacados (home)
END:VEVENT
END:VCALENDAR