BEGIN:VCALENDAR
VERSION:2.0
PRODID:-//CIC - ECPv6.15.20//NONSGML v1.0//EN
CALSCALE:GREGORIAN
METHOD:PUBLISH
X-WR-CALNAME:CIC
X-ORIGINAL-URL:https://www.cic.gba.gob.ar
X-WR-CALDESC:Eventos para CIC
REFRESH-INTERVAL;VALUE=DURATION:PT1H
X-Robots-Tag:noindex
X-PUBLISHED-TTL:PT1H
BEGIN:VTIMEZONE
TZID:America/Argentina/Buenos_Aires
BEGIN:STANDARD
TZOFFSETFROM:-0300
TZOFFSETTO:-0300
TZNAME:-03
DTSTART:20210101T000000
END:STANDARD
END:VTIMEZONE
BEGIN:VEVENT
DTSTART;VALUE=DATE:20221003
DTEND;VALUE=DATE:20221101
DTSTAMP:20260424T024833
CREATED:20220331T145328Z
LAST-MODIFIED:20220805T125313Z
UID:9374-1664755200-1667260799@www.cic.gba.gob.ar
SUMMARY:Concurso Ingreso a la Carrera del Personal de Apoyo a la Investigación y Desarrollo
DESCRIPTION:
URL:https://www.cic.gba.gob.ar/event/concurso-ingreso-a-la-carrera-del-personal-de-apoyo-a-la-investigacion-y-desarrollo/
CATEGORIES:Agenda CyT,Convocatorias,Encuentros CyT,Personal de Apoyo
END:VEVENT
BEGIN:VEVENT
DTSTART;VALUE=DATE:20221005
DTEND;VALUE=DATE:20221006
DTSTAMP:20260424T024833
CREATED:20220809T114116Z
LAST-MODIFIED:20220809T121421Z
UID:10411-1664928000-1665014399@www.cic.gba.gob.ar
SUMMARY:Acto 80 Aniversario del LEMIT
DESCRIPTION:El día 05 de octubre del 2022 se realizará en el Salón de Actos del LEMIT el Acto Institucional por la conmemoración del 80º Aniversario. Participarán las distintas instituciones con las cuales se ha mantenido una estrecha vinculación científica tecnológica a lo largo de su historia como Organismos Públicos (locales\, regionales\, nacionales)\, Universidades\, Asociaciones\, Organismos Internacionales y del sector productivo privado (fábricas de cemento\, de acero\, canteras y yacimientos\, productores de asfalto\, etc.) \nEl Laboratorio de Entrenamiento Multidisciplinario para la Investigación Tecnológica (LEMIT) es una institución oficial dependiente de la Comisión de Investigaciones Científicas\, Ministerio de Producción\, Ciencia e Innovación Tecnología de la Provincia de Buenos Aires\, fue creado en el año 1942 como Laboratorio de Ensayos de Materiales para las obras y compras de la Provincia de Buenos Aires. A lo largo de su vida ha contribuido de manera significativa\, mediante transferencias de I+D+i\, al desarrollo científico tecnológico de la provincia de Buenos Aires y del país\, manteniendo vigente el lema institucional “ciencia e investigación al servicio de la técnica y la industria”.
URL:https://www.cic.gba.gob.ar/event/acto-80-aniversario-del-lemit/
CATEGORIES:Agenda CyT,Encuentros CyT,Eventos Destacados (home)
END:VEVENT
BEGIN:VEVENT
DTSTART;TZID=America/Argentina/Buenos_Aires:20221026T180000
DTEND;TZID=America/Argentina/Buenos_Aires:20221026T203000
DTSTAMP:20260424T024833
CREATED:20221012T144822Z
LAST-MODIFIED:20221012T150008Z
UID:11333-1666807200-1666816200@www.cic.gba.gob.ar
SUMMARY:LEMaC: 1ra Jornada: La Vialidad en Ibero-Latinoamérica
DESCRIPTION:En el marco del 20 Aniversario del LEMaC\,  centro CIC y UTN\,  se realizará la 1ra jornada “La Vialidad en Ibero-Latinoamérica” el día miércoles 26 de octubre de 18 a 20:30 hs. La actividad será virtual\, libre y gratuita. \nEl enlace zoom :  https://utn.zoom.us/j/8168266546
URL:https://www.cic.gba.gob.ar/event/lemac-1ra-jornada-la-vialidad-en-ibero-latinoamerica/
CATEGORIES:Agenda CyT,Encuentros CyT,Eventos Destacados (home)
END:VEVENT
BEGIN:VEVENT
DTSTART;VALUE=DATE:20221028
DTEND;VALUE=DATE:20221029
DTSTAMP:20260424T024833
CREATED:20220809T115034Z
LAST-MODIFIED:20220913T170148Z
UID:10413-1666915200-1667001599@www.cic.gba.gob.ar
SUMMARY:Curso y Exposiciones Técnicas “El color en los materiales de construcción”
DESCRIPTION:El día 28 de octubre de 2022 se realizará el primer curso de Color en los Materiales de Construcción y se presentarán\, además\, trabajos técnicos. El objetivo del curso es facilitar los conceptos básicos para comenzar a entender al color como una característica principal y de diseño\, si los materiales de construcción tienen finalidades estéticas. \nLas exposiciones técnicas demostrarán la importancia de otras propiedades y su incidencia en el color. Esta nueva modalidad genera un desafío que ofrecemos a la comunidad científica\, académica\, sector productivo e interesados\, en general. \nEl evento tendrá lugar en el Laboratorio de Entrenamiento Multidisciplinario para la Investigación Tecnológica – LEMIT\, dependiente de la Comisión de Investigaciones Científicas y reunirá profesionales de la institución\, investigadores de universidades y el sector empresarial. \nLas actividades se desarrollarán en Salón de Actos del LEMIT\, Avenida 52 entre 120 y 122\, La Plata\, Buenos Aires\, Argentina. Para mayor información consultar al correo electrónico: direccion@lemit.gov.ar \nCronograma\, expositoras/es e inscripción\, aquí.
URL:https://www.cic.gba.gob.ar/event/curso-y-exposiciones-tecnicas-el-color-en-los-materiales-de-construccion/
CATEGORIES:Agenda CyT,Encuentros CyT,Eventos Destacados (home)
END:VEVENT
END:VCALENDAR