BEGIN:VCALENDAR
VERSION:2.0
PRODID:-//CIC - ECPv6.15.20//NONSGML v1.0//EN
CALSCALE:GREGORIAN
METHOD:PUBLISH
X-ORIGINAL-URL:https://www.cic.gba.gob.ar
X-WR-CALDESC:Eventos para CIC
REFRESH-INTERVAL;VALUE=DURATION:PT1H
X-Robots-Tag:noindex
X-PUBLISHED-TTL:PT1H
BEGIN:VTIMEZONE
TZID:America/Argentina/Buenos_Aires
BEGIN:STANDARD
TZOFFSETFROM:-0300
TZOFFSETTO:-0300
TZNAME:-03
DTSTART:20210101T000000
END:STANDARD
END:VTIMEZONE
BEGIN:VEVENT
DTSTART;VALUE=DATE:20221101
DTEND;VALUE=DATE:20221201
DTSTAMP:20260424T121025
CREATED:20220331T145516Z
LAST-MODIFIED:20221017T151724Z
UID:9377-1667260800-1669852799@www.cic.gba.gob.ar
SUMMARY:Concurso de Becas de Entrenamiento para Alumnas/os Universitarios
DESCRIPTION:
URL:https://www.cic.gba.gob.ar/event/concurso-de-becas-de-entrenamiento-para-alumnas-os-universitarios/
CATEGORIES:Agenda CyT,Becas,Convocatorias,Encuentros CyT
END:VEVENT
BEGIN:VEVENT
DTSTART;TZID=America/Argentina/Buenos_Aires:20221110T180000
DTEND;TZID=America/Argentina/Buenos_Aires:20221110T200216
DTSTAMP:20260424T121025
CREATED:20221110T200214Z
LAST-MODIFIED:20221110T200214Z
UID:11589-1668103200-1668110536@www.cic.gba.gob.ar
SUMMARY:INCITAA presente en el Congreso de Investigadoras del SNI y de Iberoamérica
DESCRIPTION:Las investigadoras del Instituto de Ciencia y Tecnología de Alimentos y Ambiente (INCITAA) de la Universidad Nacional de Mar del Plata y asociado a la CIC participan del Congreso de Investigadoras del SNI y de Iberoamérica\, que se realiza en Puebla\, México. Esto es hoy a las 18hs. Se puede seguir la transmisión en vivo por Facebook. \nLas disertantes son las las Dra. Corti Monzon Georgina y la Dra. Nisenbaum Melina que representarán a la UNMDP en el Congreso en el que presentarán sus ponencias tituladas “Aplicación de biospeckle al monitoreo de agua y alimentos” y “Microorganismos que comen hidrocarburos y generan bioplásticos”. \nAquí se podrá seguir la transmisión: https://fb.watch/gISOsA0yhX/
URL:https://www.cic.gba.gob.ar/event/incitaa-presente-en-el-congreso-de-investigadoras-del-sni-y-de-iberoamerica/
CATEGORIES:Agenda CyT,Encuentros CyT,Eventos Destacados (home)
END:VEVENT
BEGIN:VEVENT
DTSTART;TZID=America/Argentina/Buenos_Aires:20221116T180000
DTEND;TZID=America/Argentina/Buenos_Aires:20221116T200000
DTSTAMP:20260424T121025
CREATED:20221028T161055Z
LAST-MODIFIED:20221028T161223Z
UID:11504-1668621600-1668628800@www.cic.gba.gob.ar
SUMMARY:20º Aniversario del LEMaC  2da Jornada La investigación vial y su transferencia
DESCRIPTION:16 de noviembre \nEl día 16 de noviembre a las 18 hs (hora Argentina) se realizara la 2da Jornada virtual \, libre y gratuita . “La investigación vial y su transferencia” .Esta Jornada contara con la intervención de  Expositores de renombre internacionales . \nEl enlace de acceso libre es : https://utn.zoom.us/j/86768580906Vista previa del archivo adjunto segunda jornada lemac.png \n\n\n\n\n\n \n\n\n\n\n\nsegunda jornada lemac.png\n597 KB\n\n\n\n\n\n\n\n\nPara mayor información consultar al correo electrónico lemac@frlp.utn.edu.ar
URL:https://www.cic.gba.gob.ar/event/20o-aniversario-del-lemac-2da-jornada-la-investigacion-vial-y-su-transferencia/
CATEGORIES:Agenda CyT,Encuentros CyT,Eventos Destacados (home)
END:VEVENT
BEGIN:VEVENT
DTSTART;VALUE=DATE:20221123
DTEND;VALUE=DATE:20221124
DTSTAMP:20260424T121025
CREATED:20220809T115546Z
LAST-MODIFIED:20220809T115546Z
UID:10415-1669161600-1669247999@www.cic.gba.gob.ar
SUMMARY:XV Jornada Técnicas de Restauración y Conservación del Patrimonio
DESCRIPTION:El día 23 de noviembre de 2022 se realizará la XV Jornada Técnicas de Restauración y Conservación del Patrimonio. El objetivo de la jornada es difundir los conocimientos desarrollados y/o aplicados sobre las distintas técnicas disponibles para la restauración del patrimonio\, tanto en trabajos de laboratorio como en experiencias de obra que conforman el patrimonio urbano\, rural\, industrial y religioso de los países iberoamericanos\, como así también sobre la gestión patrimonial. \nLa Jornada realizada por el Laboratorio de Entrenamiento Multidisciplinario para la Investigación Tecnológica – LEMIT\, dependiente de la Comisión de Investigaciones Científicas\, se conforma por Conferencias a cargo de destacados especialistas invitados. \nLas actividades se desarrollarán en el LEMIT\, Avenida 52 entre 120 y 122\, La Plata\, Buenos Aires\, Argentina. Para mayor información consultar al correo electrónico: direccion@lemit.gov.ar \n 
URL:https://www.cic.gba.gob.ar/event/xv-jornada-tecnicas-de-restauracion-y-conservacion-del-patrimonio/
CATEGORIES:Agenda CyT,Encuentros CyT,Eventos Destacados (home)
END:VEVENT
END:VCALENDAR