BEGIN:VCALENDAR
VERSION:2.0
PRODID:-//CIC - ECPv6.15.20//NONSGML v1.0//EN
CALSCALE:GREGORIAN
METHOD:PUBLISH
X-WR-CALNAME:CIC
X-ORIGINAL-URL:https://www.cic.gba.gob.ar
X-WR-CALDESC:Eventos para CIC
REFRESH-INTERVAL;VALUE=DURATION:PT1H
X-Robots-Tag:noindex
X-PUBLISHED-TTL:PT1H
BEGIN:VTIMEZONE
TZID:America/Argentina/Buenos_Aires
BEGIN:STANDARD
TZOFFSETFROM:-0300
TZOFFSETTO:-0300
TZNAME:-03
DTSTART:20210101T000000
END:STANDARD
END:VTIMEZONE
BEGIN:VEVENT
DTSTART;VALUE=DATE:20220901
DTEND;VALUE=DATE:20221001
DTSTAMP:20260424T104540
CREATED:20220331T145128Z
LAST-MODIFIED:20220805T124430Z
UID:9372-1661990400-1664582399@www.cic.gba.gob.ar
SUMMARY:Concurso de Ingreso a Carrera de Investigadores/as Científico y Tecnológico
DESCRIPTION:
URL:https://www.cic.gba.gob.ar/event/concurso-de-ingreso-a-carrera-de-investigadores-as-cientifico-y-tecnologico/
CATEGORIES:Agenda CyT,Convocatorias,Encuentros CyT,investigador/a
END:VEVENT
BEGIN:VEVENT
DTSTART;TZID=America/Argentina/Buenos_Aires:20220916T000000
DTEND;TZID=America/Argentina/Buenos_Aires:20221001T000000
DTSTAMP:20260424T104540
CREATED:20220906T131801Z
LAST-MODIFIED:20220906T131801Z
UID:10867-1663286400-1664582400@www.cic.gba.gob.ar
SUMMARY:Curso capacitación 2022 Seguridad Vial
DESCRIPTION:Seminario de la carrera de Maestría en Ingeniería Vial de la UTN-FRLP ofrecido como Curso de  Capacitación \n.
URL:https://www.cic.gba.gob.ar/event/curso-capacitacion-2022-seguridad-vial/
CATEGORIES:Agenda CyT,Encuentros CyT,Eventos Destacados (home)
END:VEVENT
END:VCALENDAR