BEGIN:VCALENDAR
VERSION:2.0
PRODID:-//CIC - ECPv6.15.20//NONSGML v1.0//EN
CALSCALE:GREGORIAN
METHOD:PUBLISH
X-WR-CALNAME:CIC
X-ORIGINAL-URL:https://www.cic.gba.gob.ar
X-WR-CALDESC:Eventos para CIC
REFRESH-INTERVAL;VALUE=DURATION:PT1H
X-Robots-Tag:noindex
X-PUBLISHED-TTL:PT1H
BEGIN:VTIMEZONE
TZID:America/Argentina/Buenos_Aires
BEGIN:STANDARD
TZOFFSETFROM:-0300
TZOFFSETTO:-0300
TZNAME:-03
DTSTART:20220101T000000
END:STANDARD
END:VTIMEZONE
BEGIN:VEVENT
DTSTART;VALUE=DATE:20230304
DTEND;VALUE=DATE:20230315
DTSTAMP:20260424T023428
CREATED:20221216T172701Z
LAST-MODIFIED:20230314T132647Z
UID:12323-1677888000-1678838399@www.cic.gba.gob.ar
SUMMARY:Presentación de Ideas-Proyectos de Investigación\, Desarrollo y Transferencia (IP2023-24)
DESCRIPTION:Apertura de Convocatoria para la presentación de Ideas-Proyectos de Investigación\, Desarrollo y Transferencia. Soluciones Científico-Tecnológicas para áreas del Gobierno Provincial.
URL:https://www.cic.gba.gob.ar/event/presentacion-de-ideas-proyectos-de-investigacion-desarrollo-y-transferencia-ip2023-24/
CATEGORIES:Agenda CyT,Convocatorias,Encuentros CyT,Eventos Destacados (home),Subsidios
END:VEVENT
END:VCALENDAR