BEGIN:VCALENDAR
VERSION:2.0
PRODID:-//CIC - ECPv6.15.20//NONSGML v1.0//EN
CALSCALE:GREGORIAN
METHOD:PUBLISH
X-WR-CALNAME:CIC
X-ORIGINAL-URL:https://www.cic.gba.gob.ar
X-WR-CALDESC:Eventos para CIC
REFRESH-INTERVAL;VALUE=DURATION:PT1H
X-Robots-Tag:noindex
X-PUBLISHED-TTL:PT1H
BEGIN:VTIMEZONE
TZID:America/Argentina/Buenos_Aires
BEGIN:STANDARD
TZOFFSETFROM:-0300
TZOFFSETTO:-0300
TZNAME:-03
DTSTART:20220101T000000
END:STANDARD
END:VTIMEZONE
BEGIN:VEVENT
DTSTART;TZID=America/Argentina/Buenos_Aires:20231116T100000
DTEND;TZID=America/Argentina/Buenos_Aires:20231116T100000
DTSTAMP:20260424T023446
CREATED:20231114T174853Z
LAST-MODIFIED:20231114T174853Z
UID:14960-1700128800-1700128800@www.cic.gba.gob.ar
SUMMARY:Presentación del Repositorio de Datos de Investigación de la UNLP
DESCRIPTION:El jueves 16 de noviembre a las 10hs en el Aula 105 del Edificio Sergio Karakachoff (calle 48 entre 6 y 7) se realizará el lanzamiento oficial del Repositorio de Datos de Investigación de la UNLP.  Este nuevo repositorio promoverá la difusión y el acceso a datos científicos de alta calidad. \nLa presentación estará a cargo de la Dra. Marisa De Giusti\, investigadora de la CIC\, y el Dr. Gonzalo L. Villarreal\, ambos de PREBI-SEDICI UNLP. La presentación incluirá demostraciones prácticas y la oportunidad de interactuar con las y los responsables del repositorio. \nLas personas interesadas en participar podrán inscribirse aquí.
URL:https://www.cic.gba.gob.ar/event/presentacion-del-repositorio-de-datos-de-investigacion-de-la-unlp/
CATEGORIES:Agenda CyT,Encuentros CyT,Eventos Destacados (home)
END:VEVENT
END:VCALENDAR