BEGIN:VCALENDAR
VERSION:2.0
PRODID:-//CIC - ECPv6.15.20//NONSGML v1.0//EN
CALSCALE:GREGORIAN
METHOD:PUBLISH
X-ORIGINAL-URL:https://www.cic.gba.gob.ar
X-WR-CALDESC:Eventos para CIC
REFRESH-INTERVAL;VALUE=DURATION:PT1H
X-Robots-Tag:noindex
X-PUBLISHED-TTL:PT1H
BEGIN:VTIMEZONE
TZID:America/Argentina/Buenos_Aires
BEGIN:STANDARD
TZOFFSETFROM:-0300
TZOFFSETTO:-0300
TZNAME:-03
DTSTART:20230101T000000
END:STANDARD
END:VTIMEZONE
BEGIN:VEVENT
DTSTART;TZID=America/Argentina/Buenos_Aires:20240603T080000
DTEND;TZID=America/Argentina/Buenos_Aires:20240628T170000
DTSTAMP:20260424T121848
CREATED:20240410T134639Z
LAST-MODIFIED:20240410T134639Z
UID:15717-1717401600-1719594000@www.cic.gba.gob.ar
SUMMARY:Subsidios: Publicaciones de Divulgación Científica y Tecnológica (PDCT24-25)
DESCRIPTION:
URL:https://www.cic.gba.gob.ar/event/subsidios-publicaciones-de-divulgacion-cientifica-y-tecnologica-pdct24-25/
CATEGORIES:Agenda CyT,Encuentros CyT,Eventos Destacados (home)
END:VEVENT
BEGIN:VEVENT
DTSTART;TZID=America/Argentina/Buenos_Aires:20240603T080000
DTEND;TZID=America/Argentina/Buenos_Aires:20240628T170000
DTSTAMP:20260424T121848
CREATED:20240410T134833Z
LAST-MODIFIED:20240410T134833Z
UID:15719-1717401600-1719594000@www.cic.gba.gob.ar
SUMMARY:Subsidios: Asistencia de Reuniones Científicas y Tecnológicas (ARCT24-25)
DESCRIPTION:
URL:https://www.cic.gba.gob.ar/event/subsidios-asistencia-de-reuniones-cientificas-y-tecnologicas-arct24-25/
CATEGORIES:Agenda CyT,Encuentros CyT,Eventos Destacados (home)
END:VEVENT
BEGIN:VEVENT
DTSTART;TZID=America/Argentina/Buenos_Aires:20240603T080000
DTEND;TZID=America/Argentina/Buenos_Aires:20240628T170000
DTSTAMP:20260424T121848
CREATED:20240410T135028Z
LAST-MODIFIED:20240410T135028Z
UID:15721-1717401600-1719594000@www.cic.gba.gob.ar
SUMMARY:Subsidios: Organización de Reuniones Científicas y Tecnológicas (ORCT 24-25)
DESCRIPTION:
URL:https://www.cic.gba.gob.ar/event/subsidios-organizacion-de-reuniones-cientificas-y-tecnologicas-orct-24-25/
CATEGORIES:Agenda CyT,Encuentros CyT,Eventos Destacados (home)
END:VEVENT
BEGIN:VEVENT
DTSTART;TZID=America/Argentina/Buenos_Aires:20240603T080000
DTEND;TZID=America/Argentina/Buenos_Aires:20240628T170000
DTSTAMP:20260424T121848
CREATED:20240410T135244Z
LAST-MODIFIED:20240410T135244Z
UID:15723-1717401600-1719594000@www.cic.gba.gob.ar
SUMMARY:Becas Doctorales: Concurso de Ingreso  para Graduados/as Universitarios (BDOC25)
DESCRIPTION:
URL:https://www.cic.gba.gob.ar/event/becas-doctorales-concurso-de-ingreso-para-graduados-as-universitarios-bdoc25/
CATEGORIES:Agenda CyT,Encuentros CyT,Eventos Destacados (home)
END:VEVENT
BEGIN:VEVENT
DTSTART;VALUE=DATE:20240625
DTEND;VALUE=DATE:20240628
DTSTAMP:20260424T121848
CREATED:20240412T160702Z
LAST-MODIFIED:20240412T160702Z
UID:15760-1719273600-1719532799@www.cic.gba.gob.ar
SUMMARY:XII Jornadas Cloud Computing\, Big Data & Emergent Topics
DESCRIPTION:Del 25 y el 27 de junio\,en la Facultad de Informática de la UNLP de la ciudad de La Plata se realizará el evento “XII Jornadas Cloud Computing\, Big Data & Emergent Topics”. El mismo es auspiciado institucionalmente por la CIC. \nLas Jornadas de Cloud Computing\, Big Data & Emerging Topics son organizadas por el Instituto de Investigación en Informática LIDI (III-LIDI) y la Secretaría de Posgrado de la Facultad de Informática de la UNLP en colaboración con Universidades de Argentina y del exterior. Cuentan con diferentes auspicios de organismos de Ciencia y Tecnología de Argentina y de sectores representativos de la industria del Software de Argentina. \nEl evento tiene como objetivo llevar a cabo un encuentro anual de profesionales e investigadores del rubro donde se intercambien ideas\, proyectos\, resultados científicos y aplicaciones concretas en diferentes áreas relacionadas Cloud Computing\, Inteligencia de Datos\, Big Data y Tecnologías Emergentes. \nLas Jornadas integran ponencias científicas con experiencias de desarrollos y aplicaciones\, fomentando la interacción entre la academia y los sectores productivos/industriales\, en el área temática de Cloud Computing\, Big Data y Tecnologías Emergentes. En el marco de las Jornadas también se desarrollan Conferencias\, Paneles y Cursos de Posgrado específicos.
URL:https://www.cic.gba.gob.ar/event/xii-jornadas-cloud-computing-big-data-emergent-topics/
CATEGORIES:Agenda CyT,Encuentros CyT
END:VEVENT
END:VCALENDAR