BEGIN:VCALENDAR
VERSION:2.0
PRODID:-//CIC - ECPv6.15.20//NONSGML v1.0//EN
CALSCALE:GREGORIAN
METHOD:PUBLISH
X-WR-CALNAME:CIC
X-ORIGINAL-URL:https://www.cic.gba.gob.ar
X-WR-CALDESC:Eventos para CIC
REFRESH-INTERVAL;VALUE=DURATION:PT1H
X-Robots-Tag:noindex
X-PUBLISHED-TTL:PT1H
BEGIN:VTIMEZONE
TZID:America/Argentina/Buenos_Aires
BEGIN:STANDARD
TZOFFSETFROM:-0300
TZOFFSETTO:-0300
TZNAME:-03
DTSTART:20220101T000000
END:STANDARD
END:VTIMEZONE
BEGIN:VEVENT
DTSTART;VALUE=DATE:20230605
DTEND;VALUE=DATE:20230617
DTSTAMP:20260425T193628
CREATED:20221216T174208Z
LAST-MODIFIED:20221216T174208Z
UID:12335-1685923200-1686959999@www.cic.gba.gob.ar
SUMMARY:Presentación de informes de Beca y solicitudes de prórrogas
DESCRIPTION:Para Becas iniciadas en agosto de años previos
URL:https://www.cic.gba.gob.ar/event/presentacion-de-informes-de-beca-y-solicitudes-de-prorrogas/
CATEGORIES:Agenda CyT,Becas,Convocatorias,Eventos Destacados (home)
END:VEVENT
BEGIN:VEVENT
DTSTART;TZID=America/Argentina/Buenos_Aires:20230605T080000
DTEND;TZID=America/Argentina/Buenos_Aires:20230630T170000
DTSTAMP:20260425T193628
CREATED:20230328T171458Z
LAST-MODIFIED:20230328T171458Z
UID:13028-1685952000-1688144400@www.cic.gba.gob.ar
SUMMARY:Presentación de Informes y Solicitudes promoción de la Carrera de Investigador/a Científico/a y tecnológico/a
DESCRIPTION:
URL:https://www.cic.gba.gob.ar/event/presentacion-de-informes-y-solicitudes-promocion-de-la-carrera-de-investigador-a-cientifico-a-y-tecnologico-a/
CATEGORIES:Agenda CyT,Convocatorias
END:VEVENT
END:VCALENDAR