BEGIN:VCALENDAR
VERSION:2.0
PRODID:-//CIC - ECPv6.15.20//NONSGML v1.0//EN
CALSCALE:GREGORIAN
METHOD:PUBLISH
X-WR-CALNAME:CIC
X-ORIGINAL-URL:https://www.cic.gba.gob.ar
X-WR-CALDESC:Eventos para CIC
REFRESH-INTERVAL;VALUE=DURATION:PT1H
X-Robots-Tag:noindex
X-PUBLISHED-TTL:PT1H
BEGIN:VTIMEZONE
TZID:America/Argentina/Buenos_Aires
BEGIN:STANDARD
TZOFFSETFROM:-0300
TZOFFSETTO:-0300
TZNAME:-03
DTSTART:20220101T000000
END:STANDARD
END:VTIMEZONE
BEGIN:VEVENT
DTSTART;VALUE=DATE:20231002
DTEND;VALUE=DATE:20231031
DTSTAMP:20260424T134409
CREATED:20221216T175038Z
LAST-MODIFIED:20221216T175038Z
UID:12344-1696204800-1698710399@www.cic.gba.gob.ar
SUMMARY:Becas de Entrenamiento: Concurso de Becas de Entrenamiento para Alumnas/os Universitarios (BENTR24)
DESCRIPTION:
URL:https://www.cic.gba.gob.ar/event/becas-de-entrenamiento-concurso-de-becas-de-entrenamiento-para-alumnas-os-universitarios-bentr24/
CATEGORIES:Agenda CyT,Becas,Convocatorias,Eventos Destacados (home)
END:VEVENT
END:VCALENDAR