BEGIN:VCALENDAR
VERSION:2.0
PRODID:-//CIC - ECPv6.15.20//NONSGML v1.0//EN
CALSCALE:GREGORIAN
METHOD:PUBLISH
X-WR-CALNAME:CIC
X-ORIGINAL-URL:https://www.cic.gba.gob.ar
X-WR-CALDESC:Eventos para CIC
REFRESH-INTERVAL;VALUE=DURATION:PT1H
X-Robots-Tag:noindex
X-PUBLISHED-TTL:PT1H
BEGIN:VTIMEZONE
TZID:America/Argentina/Buenos_Aires
BEGIN:STANDARD
TZOFFSETFROM:-0300
TZOFFSETTO:-0300
TZNAME:-03
DTSTART:20230101T000000
END:STANDARD
END:VTIMEZONE
BEGIN:VEVENT
DTSTART;TZID=America/Argentina/Buenos_Aires:20241104T093000
DTEND;TZID=America/Argentina/Buenos_Aires:20241104T173000
DTSTAMP:20260425T144838
CREATED:20241031T145809Z
LAST-MODIFIED:20241031T145809Z
UID:17126-1730712600-1730741400@www.cic.gba.gob.ar
SUMMARY:III Workshop de Observatorio de Valores e Instrumentos de Gestión de Suelo Urbano
DESCRIPTION:El 4 de noviembre a las 10hs se realizará el III Workshop de Observatorio de Valores e Instrumentos de Gestión de Suelo Urbano. El encuentro será en el Aula del CETMIC\, Campus Tecnológico de la CIC en Gonnet. \nLa reunión de trabajo está organizada por el Laboratorio de Investigación del Territorio y el Ambiente (LINTA)\, centro de investigación propio de la CIC\, y el LIFIA centro asociado a la CIC perteneciente a la Facultad de Informática de la UNLP. \nEl objetivo del encuentro es revisar y actualizar las estrategias metodológicas para realizar relevamientos inmobiliarios periódicos que permitan fortalecer el Observatorio y potenciar el análisis de la formación de los precios inmobiliarios para el desarrollo de políticas públicas urbanas. \nLa apertura de la reunión estará a cargo de Alejandro Fernández (Director del LIFIA) y Juan Pablo del Río (Director del LINTA). En el bloque de la mañana se trabajarán los ejes de: i) Modelado y extracción de información; ii) Análisis de datos y iii) Visualización\, publicación y validación de los datos. \nEn tanto\, en el boque de la tarde se abordarán las estrategias de: iv) Curado e integración de la información\, y v) Deduplicación. El cierre de la reunión estará a cargo de Diego Torres (LIFIA)\, quien sistematizará los principales desafíos técnicos y tecnológicos del Observatorio. \nEl programa completo se podrá descargar acá. \n 
URL:https://www.cic.gba.gob.ar/event/iii-workshop-de-observatorio-de-valores-e-instrumentos-de-gestion-de-suelo-urbano/
LOCATION:LINTA
CATEGORIES:Agenda CyT,Encuentros CyT,Eventos Destacados (home)
END:VEVENT
BEGIN:VEVENT
DTSTART;TZID=America/Argentina/Buenos_Aires:20241106T080000
DTEND;TZID=America/Argentina/Buenos_Aires:20241108T170000
DTSTAMP:20260425T144838
CREATED:20240828T193104Z
LAST-MODIFIED:20241025T161410Z
UID:16755-1730880000-1731085200@www.cic.gba.gob.ar
SUMMARY:6to. Congreso Iberoamericano y XVI Jornada: Técnicas de Restauración y Conservación del Patrimonio
DESCRIPTION:El 06\, 07 y 08 de Noviembre de 2024 se realizará en la ciudad de Luján el 6to. Congreso Iberoamericano y XVI Jornada “Técnicas de Restauración y Conservación del Patrimonio”. El evento cuenta con apoyo de la CIC. \nEl objetivo es difundir los conocimientos desarrollados y/o aplicados sobre las distintas técnicas de análisis y metodologías disponibles para la restauración del patrimonio\, tanto en trabajos de laboratorio como en experiencias de obra que conforman el patrimonio en sus distintas tipologías y ámbitos; urbano\, rural\, industrial y religioso de los países Iberoamericanos. \nPara concoer los detalles del evento\, informe en general e inscripción podés ingresar al siguiente enlace.
URL:https://www.cic.gba.gob.ar/event/6to-congreso-iberoamericano-y-xvi-jornada-tecnicas-de-restauracion-y-conservacion-del-patrimonio-2/
CATEGORIES:Agenda CyT,Eventos Destacados (home)
END:VEVENT
BEGIN:VEVENT
DTSTART;VALUE=DATE:20241114
DTEND;VALUE=DATE:20241116
DTSTAMP:20260425T144838
CREATED:20240924T160058Z
LAST-MODIFIED:20240930T184054Z
UID:16935-1731542400-1731715199@www.cic.gba.gob.ar
SUMMARY:XI Congreso de Alimentación Siglo XXI: Alimentos\, Nutrición y Salud
DESCRIPTION:La CIC auspicia el “XI Congreso de Alimentación Siglo XXI: Alimentos\, Nutrición y Salud” y la “XLV Reunión del Capítulo Argentino de la Sociedad Latinoamericana de Nutrición (CASLAN) bajo el lema “NUTRICIÓN\, CIENCIA Y\nTECNOLOGÍA ALIMENTARIA PARA UNA VIDA MAS SALUDABLE” a realizarse los días 14 y 15 de noviembre de 2024 en la sede Lima 221 -CABA- de la Universidad de Morón. \nEl objetivo del evento es discutir los recientes avances en ciencias relacionadas con la nutrición\, salud y alimentos. Se considera que este congreso crea un espacio para el intercambio de conocimientos y experiencias entre profesionales\, docentes\, investigadores y estudiantes de diversas instituciones argentinas. \nUnirse a CASLAN permite a los profesionales: Promover el conocimiento: Mejorar el entendimiento de los problemas nutricionales en la región y sus soluciones; fomentar la capacitación: Fortalecer la formación técnica y científica de sus miembros; Fortalecer relaciones: Establecer conexiones con otras organizaciones y profesionales en el campo de la nutrición; Participar activamente: Involucrarse en actividades y comisiones de ARGENFOOD\, mejorando la nutrición y alimentación en Argentina y América. \nSi se desea ampliar la información sobre los temas que a tratarse en el congreso se puede consultar la página del evento https://caslan2024.unimoron.edu.ar o escribir al mail: caslan2024um@gmail.com. \n 
URL:https://www.cic.gba.gob.ar/event/xi-congreso-de-alimentacion-siglo-xxi-alimentos-nutricion-y-salud/
CATEGORIES:Agenda CyT,Eventos Destacados (home)
END:VEVENT
BEGIN:VEVENT
DTSTART;VALUE=DATE:20241114
DTEND;VALUE=DATE:20241116
DTSTAMP:20260425T144838
CREATED:20240925T160129Z
LAST-MODIFIED:20240925T160129Z
UID:16958-1731542400-1731715199@www.cic.gba.gob.ar
SUMMARY:XVI Encuentro Biólog@s En Red
DESCRIPTION:Los días 14 y 15 de noviembre se llevará a cabo en el Salón de ADUM (Agremiación Docente Universitaria Marplatense)\, Roca 3865\, Mar del Plata\, el XVI Encuentro Biólog@s en Red (BER). El mismo cuenta con el apoyo de la CIC. \nBiólogos en Red (BER) es un encuentro de carácter provincial. Su objetivo es establecer el diálogo y la integración entre estudiantes de grado y postgrado así como investigadores del área de la biología que desarrollan sus carreras en entidades científicas y/o educativas del país.  \nA su vez\, se pretende generar un compromiso con el conocimiento adquirido y con el acercamiento hacia la comunidad científica y la sociedad\, procurando generar un debate constructivo y consciente sobre el rol de la ciencia en el país.  \nLa reunión es de carácter gratuito\, buscando que sea accesible tanto a estudiantes como a investigadores.
URL:https://www.cic.gba.gob.ar/event/xvi-encuentro-biologs-en-red/
LOCATION:ADUM\, Roca 3865\, Mar del Plata\, Buenos Aires\, Argentina
CATEGORIES:Agenda CyT,Eventos Destacados (home)
END:VEVENT
BEGIN:VEVENT
DTSTART;VALUE=DATE:20241119
DTEND;VALUE=DATE:20241122
DTSTAMP:20260425T144838
CREATED:20240925T160559Z
LAST-MODIFIED:20240925T160559Z
UID:16964-1731974400-1732233599@www.cic.gba.gob.ar
SUMMARY:Fronteras en Nanobiotecnología IV
DESCRIPTION:Del 19 al 21 de noviembre se realizará en el Centro Atómico Constituyentes de la Comisión Nacional de Energía Atómica\, Av. General Paz 1499\, localidad de San Martín\, el workshop Fronteras en Nanobiotecnología IV. El mismo cuenta con el apoyo de la CIC. \nEste evento tiene como objetivo que los diversos grupos que se encuentran trabajando en nanobiotecnología compartan los avances en sus líneas de investigación y puedan establecer vínculos para continuar formando una comunidad con una mayor interacción. \nEl workshop contará con la participación de conferencistas nacionales e internacionales\, lo cual permitirá interactuar y establecer lazos con grupos de gran prestigio. \n \n 
URL:https://www.cic.gba.gob.ar/event/fronteras-en-nanobiotecnologia-iv/
LOCATION:CNEA\, Av. General Paz 1499\, San Martin\, Buenos Aires\, Argentina
CATEGORIES:Agenda CyT,Eventos Destacados (home)
END:VEVENT
BEGIN:VEVENT
DTSTART;VALUE=DATE:20241120
DTEND;VALUE=DATE:20241123
DTSTAMP:20260425T144838
CREATED:20240925T161047Z
LAST-MODIFIED:20240925T161047Z
UID:16969-1732060800-1732319999@www.cic.gba.gob.ar
SUMMARY:I Encuentro internacional sobre la cuestión social en el siglo XXI. La cuestión social\, emociones y territorios: diálogos polifónicos en la era transglobal
DESCRIPTION:Del 20 al 22 de noviembre el Centro de Investigaciones Sociales de la Universidad Nacional de La Matanza (UNLaM) realizará el I Encuentro internacional sobre la cuestión social en el siglo XXI. La cuestión social\, emociones y territorios: diálogos polifónicos en la era transglobal.  \nEl evento será virtual a fin de promover el diálogo y la participación entre colegas de distintas ciudades argentinas y del exterior. El mismo cuenta con el apoyo de la CIC. \nEsta actividad está organizada por investigadoras y becarias del Centro de Investigaciones Sociales junto con la colaboración de profesoras de la UNLaM y de la Escuela Superior de Medicina de la Universidad Nacional de Mar del Plata\, miembros del Centro de Investigaciones y Estudios Sociológicos (CIES) y de la Red Internacional de Sociología de las Sensibilidades (RedISS). \nEl encuentro busca generar un espacio de debate entre investigadores de diferentes disciplinas de las ciencias sociales y humanidades\, nucleando discusiones en mesas de trabajo que aborden temáticas en torno a la cuestión social y en donde\, de modo transversal\, se consideren los territorios\, el género\, la digitalización y las emociones\, como conceptos estructuradores de lo social. \n \n 
URL:https://www.cic.gba.gob.ar/event/i-encuentro-internacional-sobre-la-cuestion-social-en-el-siglo-xxi-la-cuestion-social-emociones-y-territorios-dialogos-polifonicos-en-la-era-transglobal/
CATEGORIES:Agenda CyT,Eventos Destacados (home)
END:VEVENT
BEGIN:VEVENT
DTSTART;VALUE=DATE:20241128
DTEND;VALUE=DATE:20241201
DTSTAMP:20260425T144838
CREATED:20240809T181554Z
LAST-MODIFIED:20240809T181554Z
UID:16596-1732752000-1733011199@www.cic.gba.gob.ar
SUMMARY:III Congreso Latinoamericano de Innovación Educativa (INNOVED 2024)
DESCRIPTION:Del 28 al 30 de noviembre de 2024 se realizará el III Congreso Latinoamericano de Innovación Educativa (INNOVED 2024) organizado por la Universidad de Morón y la Fundación INNOVED. El encuentro cuenta con el apoyo de la CIC. \nEl encuentro se llevará a cabo de forma hibrida en la mencionada universidad\, Sede UM Buenos Aires; y su objetivo es generar un encuentro con especialistas en virtud de la innovación educativa en la educación superior\, transformación digital y educación a distancia.  \nEl INNOVED es el evento más importante en su tipo en Argentina y América Latina y desde su éxito inicial depende del compromiso y la colaboración de destacados profesionales dedicados y apasionados. Formar parte de este Congreso busca contribuir al avance de la educación así como también fortalecer su red profesional y adquirir nuevas perspectivas y conocimientos. \nPara más información ingresar a https://innoved2024.unimoron.edu.ar/. 
URL:https://www.cic.gba.gob.ar/event/iii-congreso-latinoamericano-de-innovacion-educativa-innoved-2024/
CATEGORIES:Agenda CyT,Eventos Destacados (home)
END:VEVENT
END:VCALENDAR